BEGIN:VCALENDAR
VERSION:2.0
PRODID:-//94.9 The Wave - ECPv4.6.26//NONSGML v1.0//EN
CALSCALE:GREGORIAN
METHOD:PUBLISH
X-WR-CALNAME:94.9 The Wave
X-ORIGINAL-URL:https://949thewave.com
X-WR-CALDESC:Events for 94.9 The Wave
BEGIN:VEVENT
DTSTART;TZID=America/Halifax:20180929T180000
DTEND;TZID=America/Halifax:20180929T210000
DTSTAMP:20260421T155813
CREATED:20180911T124611Z
LAST-MODIFIED:20180911T124611Z
UID:5085-1538244000-1538254800@949thewave.com
SUMMARY:Auction Fundraiser
DESCRIPTION:Annual Auction for Bethel United Church with auctioneer Alfie MacLeod. Saturday\, September 29\, 2018. Viewing starts at 6:00 pm\, auction at 7:00 pm. CE Centre\, 2589 Hillside Rd\, Marion Bridge. \n
URL:https://949thewave.com/event/auction-fundraiser/
END:VEVENT
END:VCALENDAR