BEGIN:VCALENDAR
VERSION:2.0
PRODID:-//94.9 The Wave - ECPv4.6.26//NONSGML v1.0//EN
CALSCALE:GREGORIAN
METHOD:PUBLISH
X-WR-CALNAME:94.9 The Wave
X-ORIGINAL-URL:https://949thewave.com
X-WR-CALDESC:Events for 94.9 The Wave
BEGIN:VEVENT
DTSTART;TZID=America/Halifax:20210924T110000
DTEND;TZID=America/Halifax:20210924T140000
DTSTAMP:20260424T135533
CREATED:20210923T134727Z
LAST-MODIFIED:20210923T134727Z
UID:12001-1632481200-1632492000@949thewave.com
SUMMARY:ATV Club Fundraising BBQ
DESCRIPTION:The local ATV clubs are doing a fundraiser barbecue at Cabot Powersports 616 Keltic drive this Friday\, Sept.24th from 11-2\nIsle Royale ATV Club and The Marconi Trailblazers ATV club. \nSponsored by Cabot Powersports and Sobeys on Prince street Donations for clubs. \n
URL:https://949thewave.com/event/atv-club-fundraising-bbq/
CATEGORIES:Charity Events
END:VEVENT
END:VCALENDAR