BEGIN:VCALENDAR
VERSION:2.0
PRODID:-//94.9 The Wave - ECPv4.6.26//NONSGML v1.0//EN
CALSCALE:GREGORIAN
METHOD:PUBLISH
X-WR-CALNAME:94.9 The Wave
X-ORIGINAL-URL:https://949thewave.com
X-WR-CALDESC:Events for 94.9 The Wave
BEGIN:VEVENT
DTSTART;TZID=America/Halifax:20260408T180000
DTEND;TZID=America/Halifax:20260408T190000
DTSTAMP:20260425T174952
CREATED:20260325T140708Z
LAST-MODIFIED:20260325T140708Z
UID:18137-1775671200-1775674800@949thewave.com
SUMMARY:April Art Night – Mini Canvases
DESCRIPTION:Glace Bay Library\nWed. April 8\n6 – 7pm\nJoin us for an evening of art with mini canvases. Registration required. 902-849-8657 or glacebay@cbrl.ca \n
URL:https://949thewave.com/event/april-art-night-mini-canvases/
END:VEVENT
END:VCALENDAR