BEGIN:VCALENDAR
VERSION:2.0
PRODID:-//94.9 The Wave - ECPv4.6.26//NONSGML v1.0//EN
CALSCALE:GREGORIAN
METHOD:PUBLISH
X-WR-CALNAME:94.9 The Wave
X-ORIGINAL-URL:https://949thewave.com
X-WR-CALDESC:Events for 94.9 The Wave
BEGIN:VEVENT
DTSTART;TZID=America/Halifax:20260429T180000
DTEND;TZID=America/Halifax:20260429T190000
DTSTAMP:20260424T083833
CREATED:20260325T141201Z
LAST-MODIFIED:20260325T141201Z
UID:18145-1777485600-1777489200@949thewave.com
SUMMARY:April Art Night – Dirty Pour
DESCRIPTION:Glace Bay Library\nWed April 29\n6 – 7pm\nGet down and dirty with our Dirty Pour Paint night. Registration required. 902-849-8657 or glacebay@cbrl.ca \n
URL:https://949thewave.com/event/april-art-night-dirty-pour/
END:VEVENT
END:VCALENDAR