BEGIN:VCALENDAR
VERSION:2.0
PRODID:-//94.9 The Wave - ECPv4.6.26//NONSGML v1.0//EN
CALSCALE:GREGORIAN
METHOD:PUBLISH
X-WR-CALNAME:94.9 The Wave
X-ORIGINAL-URL:https://949thewave.com
X-WR-CALDESC:Events for 94.9 The Wave
BEGIN:VEVENT
DTSTART;TZID=America/Halifax:20181201T180000
DTEND;TZID=America/Halifax:20181202T010000
DTSTAMP:20260424T135551
CREATED:20181123T194718Z
LAST-MODIFIED:20181123T194718Z
UID:5728-1543687200-1543712400@949thewave.com
SUMMARY:Annual Dinner Banquet - In Memory of Ruth Boutilier
DESCRIPTION:Saturday\, December 1st. Reception from 6-7\, followed by dinner\, announcements and dance (6pm-1am total event time) \nWe’re getting dressed to the nines and spending a beautiful social evening reminiscing on the good times at Ski Ben Eoin. Expect a fun-filled evening with many laughs\, probably a few tears and plenty of great memories! The event will feature an announcement regarding how we intend to honor Ruth this season and as we go forward\, as well as a memorial unveiling to help keep her close to our hearts\, every day. \nTickets are $50 per and are available through our office (902-828-2804). Tickets grant you access to this wonderful event\, a catered turkey dinner with all the fixings\, and a dance to follow the unveiling and announcements. In honor of Ruth’s kind\, vivacious and generous spirit\, we ask that you please bring a warm winter jacket donation which we will forward along to My Sister’s Closet in Sydney to help clothe struggling families this winter. \n
URL:https://949thewave.com/event/annual-dinner-banquet-in-memory-of-ruth-boutilier/
END:VEVENT
END:VCALENDAR