BEGIN:VCALENDAR
VERSION:2.0
PRODID:-//94.9 The Wave - ECPv4.6.26//NONSGML v1.0//EN
CALSCALE:GREGORIAN
METHOD:PUBLISH
X-WR-CALNAME:94.9 The Wave
X-ORIGINAL-URL:https://949thewave.com
X-WR-CALDESC:Events for 94.9 The Wave
BEGIN:VEVENT
DTSTART;TZID=America/Halifax:20171022T170000
DTEND;TZID=America/Halifax:20171022T190000
DTSTAMP:20260421T001404
CREATED:20171017T135454Z
LAST-MODIFIED:20171017T135454Z
UID:4110-1508691600-1508698800@949thewave.com
SUMMARY:All Ages Concert
DESCRIPTION:All Ages Show Presented by CBRM Recreational Youth in Music Program and Caper Radio. When: Sunday\, October 22nd. 5pm. Where: Undercurrent Youth Center\, 75 Prince St\, Sydney. Tickets available at Atomic Records. Featuring local bands Cap Gun\, Keith Doom and The Wrecking Crew\, and Mercy for the Lost. Also featuring Cancer Bats from Toronto. \n
URL:https://949thewave.com/event/all-ages-concert/
END:VEVENT
END:VCALENDAR