BEGIN:VCALENDAR
VERSION:2.0
PRODID:-//94.9 The Wave - ECPv4.6.26//NONSGML v1.0//EN
CALSCALE:GREGORIAN
METHOD:PUBLISH
X-WR-CALNAME:94.9 The Wave
X-ORIGINAL-URL:https://949thewave.com
X-WR-CALDESC:Events for 94.9 The Wave
BEGIN:VEVENT
DTSTART;TZID=America/Halifax:20231127T130000
DTEND;TZID=America/Halifax:20231127T190000
DTSTAMP:20260424T122407
CREATED:20231106T162047Z
LAST-MODIFIED:20231106T162047Z
UID:14810-1701090000-1701111600@949thewave.com
SUMMARY:Adult Lego Drop in
DESCRIPTION:Glace Bay Library \nMonday Nov 27 \n1 – 7 \nDrop in and enjoy our lego. \n\n
URL:https://949thewave.com/event/adult-lego-drop-in-8/
END:VEVENT
END:VCALENDAR