BEGIN:VCALENDAR
VERSION:2.0
PRODID:-//94.9 The Wave - ECPv4.6.26//NONSGML v1.0//EN
CALSCALE:GREGORIAN
METHOD:PUBLISH
X-WR-CALNAME:94.9 The Wave
X-ORIGINAL-URL:https://949thewave.com
X-WR-CALDESC:Events for 94.9 The Wave
BEGIN:VEVENT
DTSTART;TZID=America/Halifax:20231030T130000
DTEND;TZID=America/Halifax:20231030T190000
DTSTAMP:20260421T054812
CREATED:20231010T173122Z
LAST-MODIFIED:20231010T173122Z
UID:14696-1698670800-1698692400@949thewave.com
SUMMARY:Adult Lego Drop in
DESCRIPTION:Glace Bay Library \nMonday Oct 30 \n1 – 7 \nDrop in and enjoy our lego. \n  \n
URL:https://949thewave.com/event/adult-lego-drop-in-7/
END:VEVENT
END:VCALENDAR