BEGIN:VCALENDAR
VERSION:2.0
PRODID:-//94.9 The Wave - ECPv4.6.26//NONSGML v1.0//EN
CALSCALE:GREGORIAN
METHOD:PUBLISH
X-WR-CALNAME:94.9 The Wave
X-ORIGINAL-URL:https://949thewave.com
X-WR-CALDESC:Events for 94.9 The Wave
BEGIN:VEVENT
DTSTART;TZID=America/Halifax:20230417T130000
DTEND;TZID=America/Halifax:20230417T190000
DTSTAMP:20260425T111814
CREATED:20230330T175103Z
LAST-MODIFIED:20230330T175103Z
UID:13897-1681736400-1681758000@949thewave.com
SUMMARY:Adult Colouring Drop in
DESCRIPTION:Glace Bay Library \nMonday April 17th \n1pm – 7pm \nDrop in and enjoy some mindful colouring \n  \n
URL:https://949thewave.com/event/adult-colouring-drop-in/
END:VEVENT
END:VCALENDAR