BEGIN:VCALENDAR
VERSION:2.0
PRODID:-//94.9 The Wave - ECPv4.6.26//NONSGML v1.0//EN
CALSCALE:GREGORIAN
METHOD:PUBLISH
X-WR-CALNAME:94.9 The Wave
X-ORIGINAL-URL:https://949thewave.com
X-WR-CALDESC:Events for 94.9 The Wave
BEGIN:VEVENT
DTSTART;TZID=America/Halifax:20220328T100000
DTEND;TZID=America/Halifax:20220328T150000
DTSTAMP:20260424T193504
CREATED:20220323T165140Z
LAST-MODIFIED:20220323T165140Z
UID:12520-1648461600-1648479600@949thewave.com
SUMMARY:A Better Bite Community Kitchen- Seniors Wellness Day!
DESCRIPTION:The Better Bite Community kitchen will be hosting seniors programming throughout the month of March. Call (902) 322-1351 to register for an event. \n10 am- 12 pm: Accessible Yoga & Social Wellbeing Workshop- Registration required \n12 pm- 1pm: Lunch & Live Music \n1 pm- 3 pm: Seniors Wellness fair- Eltuek Arts Centre Room 211 \n
URL:https://949thewave.com/event/a-better-bite-community-kitchen-seniors-wellness-day/
CATEGORIES:Community Events
END:VEVENT
END:VCALENDAR