BEGIN:VCALENDAR
VERSION:2.0
PRODID:-//94.9 The Wave - ECPv4.6.26//NONSGML v1.0//EN
CALSCALE:GREGORIAN
METHOD:PUBLISH
X-WR-CALNAME:94.9 The Wave
X-ORIGINAL-URL:https://949thewave.com
X-WR-CALDESC:Events for 94.9 The Wave
BEGIN:VEVENT
DTSTART;TZID=America/Halifax:20190623T140000
DTEND;TZID=America/Halifax:20190623T170000
DTSTAMP:20260423T121115
CREATED:20190507T182752Z
LAST-MODIFIED:20190507T182752Z
UID:6923-1561298400-1561309200@949thewave.com
SUMMARY:75th Anniversary of the D-Day Landing
DESCRIPTION:The Northside Salute to the 75th Anniversary of the D-Day Landing sponsored by the Florence\,North Sydney and Sydney Mines Branches of the Royal Canadian Legion will take place at the Emera Center\,175 King ST\, North Sydney on June 23rd 2019 beginning at 2PM . Admission is $10.00 per person and tickets are available at each Legion as well as the Emera Center Box Office \n
URL:https://949thewave.com/event/75th-anniversary-of-the-d-day-landing/
END:VEVENT
END:VCALENDAR