BEGIN:VCALENDAR
VERSION:2.0
PRODID:-//94.9 The Wave - ECPv4.6.26//NONSGML v1.0//EN
CALSCALE:GREGORIAN
METHOD:PUBLISH
X-WR-CALNAME:94.9 The Wave
X-ORIGINAL-URL:https://949thewave.com
X-WR-CALDESC:Events for 94.9 The Wave
BEGIN:VEVENT
DTSTART;TZID=America/Halifax:20190411T183000
DTEND;TZID=America/Halifax:20190411T200000
DTSTAMP:20260423T113714
CREATED:20190402T162931Z
LAST-MODIFIED:20190402T163053Z
UID:6579-1555007400-1555012800@949thewave.com
SUMMARY:Tompkins Memorial Library
DESCRIPTION:For the Birds \nTompkins Memorial Library\, Reserve Mines \nThursday\, April 11 \n6:30-8:00 pm \n  \nJoin us to learn how to feed our feathered friends and paint a wooden feeder \nfor your own backyard. \n  \nThis is an adult program and registration is required. \nCall 902-849-6685 or email reservem@nssc.library.ns.ca \n  \n
URL:https://949thewave.com/event/6579/
END:VEVENT
END:VCALENDAR