BEGIN:VCALENDAR
VERSION:2.0
PRODID:-//94.9 The Wave - ECPv4.6.26//NONSGML v1.0//EN
CALSCALE:GREGORIAN
METHOD:PUBLISH
X-WR-CALNAME:94.9 The Wave
X-ORIGINAL-URL:https://949thewave.com
X-WR-CALDESC:Events for 94.9 The Wave
BEGIN:VEVENT
DTSTART;TZID=America/Halifax:20170405T140000
DTEND;TZID=America/Halifax:20170405T160000
DTSTAMP:20260421T162012
CREATED:20170327T165907Z
LAST-MODIFIED:20170327T165907Z
UID:2318-1491400800-1491408000@949thewave.com
SUMMARY:45's Card Game
DESCRIPTION:Mira Seniors & Pensioners Centre\, Marion Bridge on Wednesday\, April 5\, 2017 from 2 PM – 4 PM.  All are welcome! \n
URL:https://949thewave.com/event/45s-card-game-4/
END:VEVENT
END:VCALENDAR