BEGIN:VCALENDAR
VERSION:2.0
PRODID:-//94.9 The Wave - ECPv4.6.26//NONSGML v1.0//EN
CALSCALE:GREGORIAN
METHOD:PUBLISH
X-WR-CALNAME:94.9 The Wave
X-ORIGINAL-URL:https://949thewave.com
X-WR-CALDESC:Events for 94.9 The Wave
BEGIN:VEVENT
DTSTART;TZID=America/Halifax:20171101T140000
DTEND;TZID=America/Halifax:20171101T160000
DTSTAMP:20260425T135017
CREATED:20171025T124613Z
LAST-MODIFIED:20171025T124613Z
UID:4173-1509544800-1509552000@949thewave.com
SUMMARY:45's Card Game
DESCRIPTION:45’s Card Game will be held at Mira Seniors’ and Pensioners’ Centre\, Marion Bridge on Wednesday\, November 1st from 2 PM – 4 PM.  All are Welcome! \n
URL:https://949thewave.com/event/45s-card-game-12/
END:VEVENT
END:VCALENDAR