BEGIN:VCALENDAR
VERSION:2.0
PRODID:-//94.9 The Wave - ECPv4.6.26//NONSGML v1.0//EN
CALSCALE:GREGORIAN
METHOD:PUBLISH
X-WR-CALNAME:94.9 The Wave
X-ORIGINAL-URL:https://949thewave.com
X-WR-CALDESC:Events for 94.9 The Wave
BEGIN:VEVENT
DTSTART;TZID=America/Halifax:20230917T140000
DTEND;TZID=America/Halifax:20230917T160000
DTSTAMP:20260423T114020
CREATED:20230905T125712Z
LAST-MODIFIED:20230905T125712Z
UID:14507-1694959200-1694966400@949thewave.com
SUMMARY:43rd Annual Terry Fox Run New Waterford
DESCRIPTION:The 43rd Annual Terry Fox Run/Walk\, for cancer research takes place in New Waterford\, on Sunday\, September 17th\, at the Francis MacKinnon Track\, on Eighth Street. Participants can drop by anytime between 2:00-4:00PM\, to walk\, run\, jog or bike at their own leisure. All donations collected will go towards cancer research. Washroom facilities on site\, refreshments will be available\, with a limited number of Terry Fox T-shirts for sale. This event happens rain or shine! Anyone seeking further information on Terry’s Marathon of Hope\, or if they merely wish to make a donation\, please contact local run co-ordinator Bobby Aucoin\, at 902-862-3998. \n
URL:https://949thewave.com/event/43rd-annual-terry-fox-run-new-waterford/
END:VEVENT
END:VCALENDAR