BEGIN:VCALENDAR
VERSION:2.0
PRODID:-//94.9 The Wave - ECPv4.6.26//NONSGML v1.0//EN
CALSCALE:GREGORIAN
METHOD:PUBLISH
X-WR-CALNAME:94.9 The Wave
X-ORIGINAL-URL:https://949thewave.com
X-WR-CALDESC:Events for 94.9 The Wave
BEGIN:VEVENT
DTSTART;TZID=America/Halifax:20220918T140000
DTEND;TZID=America/Halifax:20220918T160000
DTSTAMP:20260425T112433
CREATED:20220831T135047Z
LAST-MODIFIED:20220831T140125Z
UID:12924-1663509600-1663516800@949thewave.com
SUMMARY:42th annual Terry Fox Run/Walk New Waterford
DESCRIPTION:The 42th annual Terry Fox Run/Walk for cancer research takes place in New Waterford on Sunday September 18th at the Francis MacKinnon Track on Eighth Street Participants can drop by anytime between 2:00-4:00 P.M. to walk\, jog\, run or bike at their own leisure. \nDonations are welcome with all funds going towards cancer research. \nRefreshments will be available. Washrooms on site. \nThis event takes place rain or shine If anyone seeks further information\, or wishes to make a donation to Terry’s Marathon of Hope\, please contact co-ordinator Bobby Aucoin at 902 862 3998. \n
URL:https://949thewave.com/event/42th-annual-terry-fox-run-walk-new-waterford/
END:VEVENT
END:VCALENDAR