BEGIN:VCALENDAR
VERSION:2.0
PRODID:-//94.9 The Wave - ECPv4.6.26//NONSGML v1.0//EN
CALSCALE:GREGORIAN
METHOD:PUBLISH
X-WR-CALNAME:94.9 The Wave
X-ORIGINAL-URL:https://949thewave.com
X-WR-CALDESC:Events for 94.9 The Wave
BEGIN:VEVENT
DTSTART;VALUE=DATE:20221111
DTEND;VALUE=DATE:20221112
DTSTAMP:20260421T123618
CREATED:20221107T145929Z
LAST-MODIFIED:20221107T145929Z
UID:13318-1668124800-1668211199@949thewave.com
SUMMARY:2022 Remembrance Day Parade / Service
DESCRIPTION:The Royal Canadian Legion Ashby Branch #138. \nThe 2022 Remembrance Day Parade / Service will be returning to Centre 200 this year. \nOur Guest Speaker will be Dr. Tom Urbaniak. Professor of Political Science / Director\, Tompkins Institute CBU. \nThe parade\, Weather permitting\, will leave the Sydney Shopping Center at 9.00 AM and proceed to Centre 200. Any Non-Legion Veteran who would like to march with their legion comrades are more than welcome and encouraged to join us. \nThe Citizens of the CBRM are invited and welcomed to join us for the Remembrance service. To view the parade please be in Centre 200 by 9.10 AM \nEntertainment will be provided by Mr. Brian Doucette and then Mr. Aaron Lewis and Sheldon Chant. \nIf you have any questions\, please call us at 902-562-4994. \nPlease join us in Honouring our Veterans\, both Past and Present. \n
URL:https://949thewave.com/event/2022-remembrance-day-parade-service/
END:VEVENT
END:VCALENDAR