BEGIN:VCALENDAR
VERSION:2.0
PRODID:-//94.9 The Wave - ECPv4.6.26//NONSGML v1.0//EN
CALSCALE:GREGORIAN
METHOD:PUBLISH
X-WR-CALNAME:94.9 The Wave
X-ORIGINAL-URL:https://949thewave.com
X-WR-CALDESC:Events for 94.9 The Wave
BEGIN:VEVENT
DTSTART;TZID=America/Halifax:20260418T100000
DTEND;TZID=America/Halifax:20260418T110000
DTSTAMP:20260425T174850
CREATED:20260325T140930Z
LAST-MODIFIED:20260420T174828Z
UID:18141-1776506400-1776510000@949thewave.com
SUMMARY:Super Saturday – Crazy Art
DESCRIPTION:Glace Bay Libary\nSat. Aptil 18\n10 – 11am\nDrop in and go crazy with all our art supplies. What can you create? \n
URL:https://949thewave.com/event/18141/
END:VEVENT
END:VCALENDAR