BEGIN:VCALENDAR
VERSION:2.0
PRODID:-//94.9 The Wave - ECPv4.6.26//NONSGML v1.0//EN
CALSCALE:GREGORIAN
METHOD:PUBLISH
X-WR-CALNAME:94.9 The Wave
X-ORIGINAL-URL:https://949thewave.com
X-WR-CALDESC:Events for 94.9 The Wave
BEGIN:VEVENT
DTSTART;TZID=America/Halifax:20250209T110000
DTEND;TZID=America/Halifax:20250209T150000
DTSTAMP:20260422T131732
CREATED:20250120T165606Z
LAST-MODIFIED:20250120T165715Z
UID:16581-1739098800-1739113200@949thewave.com
SUMMARY:Valentine's Market
DESCRIPTION:Join us for another Valentine’s Market! \nWe’ll have plenty of baked goods\, jewellery\, candles\, prints\, and more. \nLove Day Market Details:\nSunday\, February 9th\, 2025\n11AM-3PM\nBras d’Or Hall (24 Villa Drive) \n
URL:https://949thewave.com/event/16581/
END:VEVENT
END:VCALENDAR