BEGIN:VCALENDAR
VERSION:2.0
PRODID:-//94.9 The Wave - ECPv4.6.26//NONSGML v1.0//EN
CALSCALE:GREGORIAN
METHOD:PUBLISH
X-WR-CALNAME:94.9 The Wave
X-ORIGINAL-URL:https://949thewave.com
X-WR-CALDESC:Events for 94.9 The Wave
BEGIN:VEVENT
DTSTART;TZID=America/Halifax:20250717T110000
DTEND;TZID=America/Halifax:20250717T170000
DTSTAMP:20260421T004413
CREATED:20250717T092356Z
LAST-MODIFIED:20250717T092438Z
UID:17281-1752750000-1752771600@949thewave.com
SUMMARY:🎉Plummer Ave Day! 🎉
DESCRIPTION:Join us for one of Cape Bretons’ BIGGEST block parties!! Sponsored by the Coal Dust Days Society in partnership with the CBRM Recreation and community partners. All activities will take place on the main drag! Enjoy games\, prizes\, Community booths and seeing old and new faces!! *set up times for vendors is 9:00am*\n\nAn awesome lineup of entertainment is happening on the main stage including talented Jack Hardy Elvis Tribute Artist\, In the Mood\, and a Pizza Eating Contest at 430pm sponsored by Big Daddy’s Pizza!! Don’t forget to join us on Plummer Ave for the evening event!!\n
URL:https://949thewave.com/event/%f0%9f%8e%89plummer-ave-day-%f0%9f%8e%89/
END:VEVENT
END:VCALENDAR